BEGIN:VCALENDAR
VERSION:2.0
PRODID:-//2PAARSchultern - ECPv6.1.2.2//NONSGML v1.0//EN
CALSCALE:GREGORIAN
METHOD:PUBLISH
X-ORIGINAL-URL:https://2ps.ghmd-konzept.de
X-WR-CALDESC:Veranstaltungen für 2PAARSchultern
REFRESH-INTERVAL;VALUE=DURATION:PT1H
X-Robots-Tag:noindex
X-PUBLISHED-TTL:PT1H
BEGIN:VTIMEZONE
TZID:Europe/Berlin
BEGIN:DAYLIGHT
TZOFFSETFROM:+0100
TZOFFSETTO:+0200
TZNAME:CEST
DTSTART:20230326T010000
END:DAYLIGHT
BEGIN:STANDARD
TZOFFSETFROM:+0200
TZOFFSETTO:+0100
TZNAME:CET
DTSTART:20231029T010000
END:STANDARD
END:VTIMEZONE
BEGIN:VEVENT
DTSTART;TZID=Europe/Berlin:20230725T080000
DTEND;TZID=Europe/Berlin:20230725T170000
DTSTAMP:20260424T125540
CREATED:20230725T114938Z
LAST-MODIFIED:20230725T114938Z
UID:1092-1690272000-1690304400@2ps.ghmd-konzept.de
SUMMARY:Testeintrag
DESCRIPTION:Willkommen bei 2PAARSchultern!\nWir\, Nadine und Robert\, leben und verkörpern die Vereinbarkeit von New Work und individuellen Lebensumständen – nicht nur in unserer eigenen Lebensweise\, sondern auch in der Begleitung und Beratung unserer Kunden. Unser Ziel ist es\, die individuellen Entscheidungen und Bedürfnisse aller Mitarbeiterinnen und Mitarbeiter frei von Diskriminierung zu unterstützen\, sei es zum Beispiel als Eltern\, pflegende Angehörige oder engagierte Ehrenamtliche. Durch eine wertschätzende und fördernde Unternehmenskultur streben wir gemeinsam mit unseren Kunden nach motivierten und vielfältigen Teams\, die eine langfristige Bindung eingehen und eine geringe Fluktuation aufweisen.
URL:https://2ps.ghmd-konzept.de/termin/testeintrag/
END:VEVENT
END:VCALENDAR