BEGIN:VCALENDAR
VERSION:2.0
PRODID:-//2PAARSchultern - ECPv6.1.2.2//NONSGML v1.0//EN
CALSCALE:GREGORIAN
METHOD:PUBLISH
X-WR-CALNAME:2PAARSchultern
X-ORIGINAL-URL:https://2ps.ghmd-konzept.de
X-WR-CALDESC:Veranstaltungen für 2PAARSchultern
REFRESH-INTERVAL;VALUE=DURATION:PT1H
X-Robots-Tag:noindex
X-PUBLISHED-TTL:PT1H
BEGIN:VTIMEZONE
TZID:Europe/Berlin
BEGIN:DAYLIGHT
TZOFFSETFROM:+0100
TZOFFSETTO:+0200
TZNAME:CEST
DTSTART:20220327T010000
END:DAYLIGHT
BEGIN:STANDARD
TZOFFSETFROM:+0200
TZOFFSETTO:+0100
TZNAME:CET
DTSTART:20221030T010000
END:STANDARD
END:VTIMEZONE
BEGIN:VEVENT
DTSTART;TZID=Europe/Berlin:20221011T100000
DTEND;TZID=Europe/Berlin:20221011T110000
DTSTAMP:20260425T031706
CREATED:20230704T113332Z
LAST-MODIFIED:20230704T114727Z
UID:1021-1665482400-1665486000@2ps.ghmd-konzept.de
SUMMARY:Infoveranstaltung zum Training "Nicht mit mir"
DESCRIPTION:Infoveranstaltung zum Training „Nicht mit mir“ \nIn dieser einstündigen Onlineveranstaltung lernen Sie das TrainerInnentandem und die Trainingsinhalte kennen. \nDas vorgestellte Training wurde gezielt für Organisationen und Unternehmen entwickelt\, die Ihre Mitarbeitenden und Führungskräfte zum Thema Sexismus sensibilisieren und vor Übergriffen schützen wollen. Die Rolle der Organisation und der Strukturen ist wesentlicher Bestandteil des Trainings um eine präventiv wirkende Infrastruktur gegen sexualisierte Gewalt zu etablieren. \nDas Training wird individuell auf die jeweilige Organisation zugeschnitten. Es findet in Präsenz in Kleingruppen von bis zu zwölf Teilnehmenden statt und dauert zwei Tage. \n  \n\n\nHier kannst Du der Veranstaltung am 11.10.2022 um 10 Uhr beitreten.\nonline: Link zum Event
URL:https://2ps.ghmd-konzept.de/termin/infoveranstaltung-zum-training-nicht-mit-mir/
END:VEVENT
END:VCALENDAR